BEGIN:VCALENDAR
VERSION:2.0
PRODID:-//ChamberMaster//Event Calendar 2.0//EN
METHOD:PUBLISH
X-PUBLISHED-TTL:P3D
REFRESH-INTERVAL:P3D
CALSCALE:GREGORIAN
BEGIN:VEVENT
DTSTART:20260628T023000Z
DTEND:20260628T053000Z
X-MICROSOFT-CDO-ALLDAYEVENT:FALSE
SUMMARY:A Roots Picnic Experience: A Great Night in Hip-Hop
DESCRIPTION:The legendary Roots crew is bringing A Roots Picnic Experience back to the Bowl for the third year in a row. This time\, they'll be joined by one of the greatest rappers of all time: Nas. Plus\, appearances from T.I.\, Bun B\, De La Soul\, and more. It's a celebration of the beauty\, joy\, and power of hip-hop\, curated by one of the greatest groups in the genre's history Programs\, artists\, dates\, prices\, and availability subject to change. Ticket limits may apply. All sales are final.
X-ALT-DESC;FMTTYPE=text/html:The legendary Roots crew is bringing A Roots Picnic Experience back to the Bowl for the third year in a row. This time\, they&rsquo\;ll be joined by one of the greatest rappers of all time: Nas. Plus\, appearances from T.I.\, Bun B\, De La Soul\, and more. It&rsquo\;s a celebration of the beauty\, joy\, and power of hip-hop\, curated by one of the greatest groups in the genre&rsquo\;s history Programs\, artists\, dates\, prices\, and availability subject to change. Ticket limits may apply. All sales are final.
LOCATION:Hollywood Bowl
UID:e.2281.7619
SEQUENCE:3
DTSTAMP:20260419T173046Z
URL:https://business.hollywoodchamber.net/events/details/a-roots-picnic-experience-a-great-night-in-hip-hop-7619
END:VEVENT

END:VCALENDAR
