BEGIN:VCALENDAR
VERSION:2.0
PRODID:-//ChamberMaster//Event Calendar 2.0//EN
METHOD:PUBLISH
X-PUBLISHED-TTL:P3D
REFRESH-INTERVAL:P3D
CALSCALE:GREGORIAN
BEGIN:VEVENT
DTSTART:20190908T030000Z
DTEND:20190908T053000Z
X-MICROSOFT-CDO-ALLDAYEVENT:FALSE
SUMMARY:Barry Manilow with Orchestra
DESCRIPTION:Artists Los Angeles Philharmonic Barry Manilow About This Performance Rolling Stone dubbed him "The Showman of Our Generation." Grammy \, Emmy \, and Tony  Award winner Barry Manilow brings a night of non-stop hits to the Hollywood Bowl stage for a pair of unforgettable nights with the Los Angeles Philharmonic. Programs\, artists\, dates\, prices and availability subject to change.
X-ALT-DESC;FMTTYPE=text/html:Artists Los Angeles Philharmonic Barry Manilow About This Performance Rolling Stone dubbed him &ldquo\;The Showman of Our Generation.&rdquo\; Grammy&reg\;\, Emmy&reg\;\, and Tony&reg\; Award winner Barry Manilow brings a night of non-stop hits to the Hollywood Bowl stage for a pair of unforgettable nights with the Los Angeles Philharmonic. Programs\, artists\, dates\, prices and availability subject to change.
LOCATION:Hollywood Bowl
UID:e.2281.3140
SEQUENCE:3
DTSTAMP:20260420T222841Z
URL:https://business.hollywoodchamber.net/events/details/barry-manilow-with-orchestra-3140
END:VEVENT

END:VCALENDAR
