BEGIN:VCALENDAR
VERSION:2.0
PRODID:-//ChamberMaster//Event Calendar 2.0//EN
METHOD:PUBLISH
X-PUBLISHED-TTL:P3D
REFRESH-INTERVAL:P3D
CALSCALE:GREGORIAN
BEGIN:VEVENT
DTSTART:20260615T010000Z
DTEND:20260615T060000Z
X-MICROSOFT-CDO-ALLDAYEVENT:FALSE
SUMMARY:Blue Note Jazz Festival - Day Two: Sunday
DESCRIPTION:The Blue Note Jazz Festival returns to the Hollywood Bowl\, starting summer off right with some of our faves from the worlds of jazz\, funk\, R&B\, and more.
X-ALT-DESC;FMTTYPE=text/html:The Blue Note Jazz Festival returns to the Hollywood Bowl\, starting summer off right with some of our faves from the worlds of jazz\, funk\, R&amp\;B\, and more.
LOCATION:Hollywood Bowl
UID:e.2281.7633
SEQUENCE:3
DTSTAMP:20260419T173053Z
URL:https://business.hollywoodchamber.net/events/details/blue-note-jazz-festival-day-two-sunday-06-14-2026-7633
END:VEVENT

END:VCALENDAR
