BEGIN:VCALENDAR
VERSION:2.0
PRODID:-//ChamberMaster//Event Calendar 2.0//EN
METHOD:PUBLISH
X-PUBLISHED-TTL:P3D
REFRESH-INTERVAL:P3D
CALSCALE:GREGORIAN
BEGIN:VEVENT
DTSTART:20260531T010000Z
DTEND:20260531T050000Z
X-MICROSOFT-CDO-ALLDAYEVENT:FALSE
SUMMARY:Charity Poker Night + Bingo with Boys & Girls Club of Hollywood
DESCRIPTION:Join us for an evening of Texas Hold 'Em...for the kids! \n\nHosted bar\, buffet\, prizes\, silent auction\, plus a special *grab bag* opportunity to win a $1K chip (for play)!\n\nFor almost 90 years\, Boys & Girls Club of Hollywood has been at the forefront of youth development\, empowering young people from low-income and under-resourced communities to realize their full potential. We are dedicated to ensuring that our students have greater access to quality educational programs\, live in communities that are free of violence\, and are inspired to dream big.
X-ALT-DESC;FMTTYPE=text/html:<p><span style="font-size:14px"><strong>Join us for an evening of Texas Hold &#39\;Em...<em><u>for the kids</u></em>! </strong></span><br />\nHosted bar\, buffet\, prizes\, silent auction\, plus a special *grab bag* opportunity to win a $1K chip (for play)!</p>\n\n<p>For almost 90 years\, Boys &amp\; Girls Club of Hollywood has been at the forefront of youth development\, empowering young people from low-income and under-resourced communities to realize their full potential. We are dedicated to ensuring that our students have greater access to quality educational programs\, live in communities that are free of violence\, and are inspired to dream big.</p>\n
LOCATION:BLT Studios\, Stage 6 1027 Lillian Way\, Los Angeles (Entrance off Romaine Street)
UID:e.2281.9487
SEQUENCE:3
DTSTAMP:20260424T011626Z
URL:https://business.hollywoodchamber.net/events/details/charity-poker-night-bingo-with-boys-girls-club-of-hollywood-9487
END:VEVENT

END:VCALENDAR
