BEGIN:VCALENDAR
VERSION:2.0
PRODID:-//ChamberMaster//Event Calendar 2.0//EN
METHOD:PUBLISH
X-PUBLISHED-TTL:P3D
REFRESH-INTERVAL:P3D
CALSCALE:GREGORIAN
BEGIN:VEVENT
DTSTART:20241204T183000Z
DTEND:20241204T200000Z
X-MICROSOFT-CDO-ALLDAYEVENT:FALSE
SUMMARY:Chicken Guy! Hollywood Opening
DESCRIPTION:Chicken Guy! Hollywood is set to commemorate the landmark grand opening with a special ribbon-cutting ceremony and proclamation by the Hollywood Chamber of Commerce.
X-ALT-DESC;FMTTYPE=text/html:Chicken Guy! Hollywood is set to commemorate the landmark grand opening with a special ribbon-cutting ceremony and proclamation by the Hollywood Chamber of Commerce.
LOCATION:Chicken Guy! Hollywood 6201 Hollywood Blvd Suite 108 Los Angeles\, CA 90028
UID:e.2281.6409
SEQUENCE:3
DTSTAMP:20260420T181034Z
URL:https://business.hollywoodchamber.net/events/details/chicken-guy-hollywood-opening-6409
END:VEVENT

END:VCALENDAR
