BEGIN:VCALENDAR
VERSION:2.0
PRODID:-//ChamberMaster//Event Calendar 2.0//EN
METHOD:PUBLISH
X-PUBLISHED-TTL:P3D
REFRESH-INTERVAL:P3D
CALSCALE:GREGORIAN
BEGIN:VEVENT
DTSTART:20220902T000000Z
DTEND:20220906T020000Z
X-MICROSOFT-CDO-ALLDAYEVENT:FALSE
SUMMARY:Cinecon 58 Classic Film Festival
DESCRIPTION:For more than half a century Cinephiles have gathered over Labor Day Weekend to celebrate the movies at the annual Cinecon Classic Film Festival. Cinecon is where archivists\, authors\, collectors\, and film fans come together for five days of classic film & TV screenings\, celebrity guests\, and special programs. Now celebrating its 58th year\, Cinecon is dedicated to showcasing unusual films that are rarely given public screenings. The festival will take place over Labor Day Weekend in the heart of Hollywood from Sept 1st through Sept. 5th\, 2022. All screenings taking place at our 2022 Presenting Sponsor - the Hollywood Legion Theatre\, an exciting new venue located at 2035 Highland Ave. Our host hotel is the Hilton Garden Inn at 2005 Highland Ave.\, which will be offering a limited number of rooms at a special rate for festival attendees\, so you must reserve early. Cinecon 58 is presented in partnership with Hollywood Heritage\, the renowned museum and preservation organization\, conveniently located just across the street from the theater at 2100 N. Highland Ave. in Hollywood Bowl Lot "D".
X-ALT-DESC;FMTTYPE=text/html:For more than half a century Cinephiles have gathered over Labor Day Weekend to celebrate the movies at the annual Cinecon Classic Film Festival. Cinecon is where archivists\, authors\, collectors\, and film fans come together for five days of classic film &amp\; TV screenings\, celebrity guests\, and special programs. Now celebrating its 58th year\, Cinecon is dedicated to showcasing unusual films that are rarely given public screenings. The festival will take place over Labor Day Weekend in the heart of Hollywood from Sept 1st through Sept. 5th\, 2022. All screenings taking place at our 2022 Presenting Sponsor - the Hollywood Legion Theatre\, an exciting new venue located at 2035 Highland Ave. Our host hotel is the Hilton Garden Inn at 2005 Highland Ave.\, which will be offering a limited number of rooms at a special rate for festival attendees\, so you must reserve early. Cinecon 58 is presented in partnership with Hollywood Heritage\, the renowned museum and preservation organization\, conveniently located just across the street from the theater at 2100 N. Highland Ave. in Hollywood Bowl Lot &ldquo\;D&rdquo\;.
LOCATION:Hollywood Legion Theater 2035 N. Highland Ave. Los Angeles\, CA 90068
UID:e.2281.5514
SEQUENCE:3
DTSTAMP:20260419T141718Z
URL:https://business.hollywoodchamber.net/events/details/cinecon-58-classic-film-festival-5514
END:VEVENT

END:VCALENDAR
