BEGIN:VCALENDAR
VERSION:2.0
PRODID:-//ChamberMaster//Event Calendar 2.0//EN
METHOD:PUBLISH
X-PUBLISHED-TTL:P3D
REFRESH-INTERVAL:P3D
CALSCALE:GREGORIAN
BEGIN:VEVENT
DTSTART:20210821T190000Z
DTEND:20210821T210000Z
X-MICROSOFT-CDO-ALLDAYEVENT:FALSE
SUMMARY:Community Event - Unveiling of the new "Hollywood's Village Mural"
DESCRIPTION:This community event will follow a morning neighborhood cleanup by volunteers. There will be speeches from those involved in the mural with BBQ\, food and music.
X-ALT-DESC;FMTTYPE=text/html:This community event will follow a morning neighborhood cleanup by volunteers. There will be speeches from those involved in the mural with BBQ\, food and music.
LOCATION:Tamarind Street (by 5930 Franklin Ave.)
UID:e.2281.5401
SEQUENCE:3
DTSTAMP:20260423T011903Z
URL:https://business.hollywoodchamber.net/events/details/community-event-unveiling-of-the-new-hollywood-s-village-mural-5401
END:VEVENT

END:VCALENDAR
