BEGIN:VCALENDAR
VERSION:2.0
PRODID:-//ChamberMaster//Event Calendar 2.0//EN
METHOD:PUBLISH
X-PUBLISHED-TTL:P3D
REFRESH-INTERVAL:P3D
CALSCALE:GREGORIAN
BEGIN:VEVENT
DTSTART:20190629T233000Z
DTEND:20190630T063000Z
X-MICROSOFT-CDO-ALLDAYEVENT:FALSE
SUMMARY:NewFilmmakers Los Angeles
DESCRIPTION:NewFilmmakers Los Angeles (NFMLA) spotlights LGBTQ+ stories\, including the world premiere of director Andrew Guerrero's first feature film\, Come Into Your Own. The night begins with shorts program "Make Your Own Magic\," a collection of stories about magic in various forms and creating ones' own solutions through determination\, from literal magic to healing from mental illness to trying to create a small piece of a long lost better world for a child. The evening continues with feature film Come Into Your Own\, a first feature by filmmaker Andrew Guerrero and a part of InFocus: LGBTQ+ Cinema\, which tells a story of the complicated ways that sexual identity can shift and the meaning attached to those shifts. The night concludes with shorts program InFocus: LGBTQ+ Cinema\, which takes viewers through a range of queer experiences through metaphor\, genre\, comedy and unflinching drama. Included are stories of familial acceptance\, transition and finding oneself. Event info and tickets here: http://bit.ly/2JP4f0X
X-ALT-DESC;FMTTYPE=text/html:NewFilmmakers Los Angeles (NFMLA) spotlights LGBTQ+ stories\, including the world premiere of director Andrew Guerrero&rsquo\;s first feature film\, Come Into Your Own. The night begins with shorts program &ldquo\;Make Your Own Magic\,&rdquo\; a collection of stories about magic in various forms and creating ones&rsquo\; own solutions through determination\, from literal magic to healing from mental illness to trying to create a small piece of a long lost better world for a child. The evening continues with feature film Come Into Your Own\, a first feature by filmmaker Andrew Guerrero and a part of InFocus: LGBTQ+ Cinema\, which tells a story of the complicated ways that sexual identity can shift and the meaning attached to those shifts. The night concludes with shorts program InFocus: LGBTQ+ Cinema\, which takes viewers through a range of queer experiences through metaphor\, genre\, comedy and unflinching drama. Included are stories of familial acceptance\, transition and finding oneself. Event info and tickets here: http://bit.ly/2JP4f0X
LOCATION:South Hill Park
UID:e.2281.3182
SEQUENCE:3
DTSTAMP:20260421T084944Z
URL:https://business.hollywoodchamber.net/events/details/newfilmmakers-los-angeles-3182
END:VEVENT

END:VCALENDAR
