BEGIN:VCALENDAR
VERSION:2.0
PRODID:-//ChamberMaster//Event Calendar 2.0//EN
METHOD:PUBLISH
X-PUBLISHED-TTL:P3D
REFRESH-INTERVAL:P3D
CALSCALE:GREGORIAN
BEGIN:VEVENT
DTSTART:20260621T030000Z
DTEND:20260621T050000Z
X-MICROSOFT-CDO-ALLDAYEVENT:FALSE
SUMMARY:Opening Night at the Bowl: The Best of Broadway
DESCRIPTION:Glittering stars of the stage and screen take the Bowl stage for a spectacular kickoff to the season with a salute to Broadway\, performing a selection of its greatest hits. From heartstring-tugging ballads to razzle-dazzle songs with dancers\, we'll celebrate the timeless melodies and breathtaking artistry of the American musical\, all capped by a fireworks display to rival Broadway's biggest and brightest marquees! PERFORMANCE WITH FIREWORKS VIP Packages and Sponsorship Opportunities Available Soon! Contact the Special Events department at events@laphil.org or call 213-972-3051 for more information. All proceeds from Hollywood Bowl Opening Night benefit the Los Angeles Philharmonic and its Learning and community programs.
X-ALT-DESC;FMTTYPE=text/html:Glittering stars of the stage and screen take the Bowl stage for a spectacular kickoff to the season with a salute to Broadway\, performing a selection of its greatest hits. From heartstring-tugging ballads to razzle-dazzle songs with dancers\, we&rsquo\;ll celebrate the timeless melodies and breathtaking artistry of the American musical\, all capped by a fireworks display to rival Broadway&rsquo\;s biggest and brightest marquees! PERFORMANCE WITH FIREWORKS VIP Packages and Sponsorship Opportunities Available Soon! Contact the Special Events department at events@laphil.org or call 213-972-3051 for more information. All proceeds from Hollywood Bowl Opening Night benefit the Los Angeles Philharmonic and its Learning and community programs.
LOCATION:Hollywood Bowl
UID:e.2281.7617
SEQUENCE:3
DTSTAMP:20260419T175431Z
URL:https://business.hollywoodchamber.net/events/details/opening-night-at-the-bowl-the-best-of-broadway-7617
END:VEVENT

END:VCALENDAR
