BEGIN:VCALENDAR
VERSION:2.0
PRODID:-//ChamberMaster//Event Calendar 2.0//EN
METHOD:PUBLISH
X-PUBLISHED-TTL:P3D
REFRESH-INTERVAL:P3D
CALSCALE:GREGORIAN
BEGIN:VEVENT
DTSTART:20260716T030000Z
DTEND:20260716T050000Z
X-MICROSOFT-CDO-ALLDAYEVENT:FALSE
SUMMARY:Salsa Spectacular: Nathy Peluso & Grupo Niche
DESCRIPTION:Argentine-Spanish singer Nathy Peluso is known for her fearless\, genre-bending style: She won both Best Alternative Song and Best Rap/Hip Hop song at the 2024 Latin Grammys. On her most recent EP\, 2025's Malportada\, she makes another unexpected turn\, embracing traditional salsa so powerfully Billboard exclaims she "shines with the force of a hurricane." "I think I've spent my entire life preparing to sing this album\," Peluso says\, and that means when she steps on the stage\, she'll bring the charisma\, soul\, and inventiveness that made her earlier hits irresistible to this timeless music. She's a fitting pairing with Colombia's Grupo Niche\, one of the best-known salsa orchestras in history thanks to enduring hits like "Canoa Rancha\," "Una Aventura\," and "Cali Pachanguero." Billboard listed the latter at no. 9 on their 50 Best Latin Songs of All Time\, saying the band "redefined the sound of salsa\, lending it a distinctly Colombian imprint." With a Grammy\, two Latin Grammys\, and a four-decades-long history\, they've become one of Latin America's most iconic musical exports.
X-ALT-DESC;FMTTYPE=text/html:Argentine-Spanish singer Nathy Peluso is known for her fearless\, genre-bending style: She won both Best Alternative Song and Best Rap/Hip Hop song at the 2024 Latin Grammys. On her most recent EP\, 2025&rsquo\;s Malportada\, she makes another unexpected turn\, embracing traditional salsa so powerfully Billboard exclaims she &ldquo\;shines with the force of a hurricane.&rdquo\; &ldquo\;I think I&rsquo\;ve spent my entire life preparing to sing this album\,&rdquo\; Peluso says\, and that means when she steps on the stage\, she&rsquo\;ll bring the charisma\, soul\, and inventiveness that made her earlier hits irresistible to this timeless music. She&rsquo\;s a fitting pairing with Colombia&rsquo\;s Grupo Niche\, one of the best-known salsa orchestras in history thanks to enduring hits like &ldquo\;Canoa Rancha\,&rdquo\; &ldquo\;Una Aventura\,&rdquo\; and &ldquo\;Cali Pachanguero.&rdquo\; Billboard listed the latter at no. 9 on their 50 Best Latin Songs of All Time\, saying the band &ldquo\;redefined the sound of salsa\, lending it a distinctly Colombian imprint.&rdquo\; With a Grammy\, two Latin Grammys\, and a four-decades-long history\, they&rsquo\;ve become one of Latin America&rsquo\;s most iconic musical exports.
LOCATION:Hollywood Bowl
UID:e.2281.7630
SEQUENCE:3
DTSTAMP:20260419T133439Z
URL:https://business.hollywoodchamber.net/events/details/salsa-spectacular-nathy-peluso-grupo-niche-7630
END:VEVENT

END:VCALENDAR
