BEGIN:VCALENDAR
VERSION:2.0
PRODID:-//ChamberMaster//Event Calendar 2.0//EN
METHOD:PUBLISH
X-PUBLISHED-TTL:P3D
REFRESH-INTERVAL:P3D
CALSCALE:GREGORIAN
BEGIN:VEVENT
DTSTART:20260715T030000Z
DTEND:20260715T050000Z
X-MICROSOFT-CDO-ALLDAYEVENT:FALSE
SUMMARY:Tchaikovsky & Beethoven
DESCRIPTION:Though initially thought to be unplayable\, Tchaikovsky's Violin Concerto has become a certified crowd-pleaser. Soloist Leonidas Kavakos\, who's been called "astoundingly virtuosic and blazingly insightful" by The Guardian\, teams up with the "expressive\, technically precise" (Bachtrack) Cristian Macelaru. "The listener will go away singing several tunes from the concerto...you want to take this home with you\," says?Kavakos\, one of its great interpreters. The buoyant Seventh Symphony was one of Beethoven's greatest successes during his life. Decades later the cantankerous Wagner was unusually effusive in his praise for the work\, calling it "the apotheosis of the dance itself: it is dance in its highest aspect\, the loftiest deed of bodily motion\, incorporated into an ideal mold of tone." Its bacchanalian energy brings the evening to a euphoric end.?
X-ALT-DESC;FMTTYPE=text/html:Though initially thought to be unplayable\, Tchaikovsky&rsquo\;s Violin Concerto has become a certified crowd-pleaser. Soloist Leonidas Kavakos\, who&rsquo\;s been called &ldquo\;astoundingly virtuosic and blazingly insightful&rdquo\; by The Guardian\, teams up with the &ldquo\;expressive\, technically precise&rdquo\; (Bachtrack) Cristian Macelaru. &ldquo\;The listener will go away singing several tunes from the concerto...you want to take this home with you\,&rdquo\; says?Kavakos\, one of its great interpreters. The buoyant Seventh Symphony was one of Beethoven&rsquo\;s greatest successes during his life. Decades later the cantankerous Wagner was unusually effusive in his praise for the work\, calling it &ldquo\;the apotheosis of the dance itself: it is dance in its highest aspect\, the loftiest deed of bodily motion\, incorporated into an ideal mold of tone.&rdquo\; Its bacchanalian energy brings the evening to a euphoric end.?
LOCATION:Hollywood Bowl
UID:e.2281.7629
SEQUENCE:3
DTSTAMP:20260419T143949Z
URL:https://business.hollywoodchamber.net/events/details/tchaikovsky-beethoven-7629
END:VEVENT

END:VCALENDAR
