BEGIN:VCALENDAR
VERSION:2.0
PRODID:-//ChamberMaster//Event Calendar 2.0//EN
METHOD:PUBLISH
X-PUBLISHED-TTL:P3D
REFRESH-INTERVAL:P3D
CALSCALE:GREGORIAN
BEGIN:VEVENT
DTSTART:20260710T030000Z
DTEND:20260710T050000Z
X-MICROSOFT-CDO-ALLDAYEVENT:FALSE
SUMMARY:The Classical World Cup
DESCRIPTION:Tito Mu oz makes a performance feel "like the center of a social triangle of concerts\, parties\, and going to church" (I Care If You Listen). Now\, he throws more fun into the mix\, turning the Hollywood Bowl into a sports arena during this World Cup-themed classical program. Mu oz debuts with the LA Phil\, conducting an exhilarating selection of pieces from the Americas including Copland and Ginastera's high-spirited cowboy suites\, Revueltas' rip-roaring and aggressive "Chant for Killing a Snake\," and a world premiere by Emmy-winning and Grammy-nominated composer Adam Schoenberg. Before intermission\, Randall Goosby brings an athletic approach to Barber's Violin Concerto\, revealing its rich colors\, textures\, and characters. "I'm a sucker for anything lyrical and beautiful. It's such descriptive and expressive music. Each movement has stories that are wrapped up in it. It's always fun to play\," Goosby says. "With a buttered cream technique that belies the perfect fingering and light but firm bowing\, Goosby stands out from all of his fellow violinists" (Stage and Cinema). Catch his first performance at the Bowl since 2022!
X-ALT-DESC;FMTTYPE=text/html:Tito Mu&ntilde\;oz makes a performance feel &ldquo\;like the center of a social triangle of concerts\, parties\, and going to church&rdquo\; (I Care If You Listen). Now\, he throws more fun into the mix\, turning the Hollywood Bowl into a sports arena during this World Cup-themed classical program. Mu&ntilde\;oz debuts with the LA Phil\, conducting an exhilarating selection of pieces from the Americas&mdash\;including Copland and Ginastera&rsquo\;s high-spirited cowboy suites\, Revueltas&rsquo\; rip-roaring and aggressive &ldquo\;Chant for Killing a Snake\,&rdquo\; and a world premiere by Emmy-winning and Grammy-nominated composer Adam Schoenberg. Before intermission\, Randall Goosby brings an athletic approach to Barber&rsquo\;s Violin Concerto\, revealing its rich colors\, textures\, and characters. &ldquo\;I&rsquo\;m a sucker for anything lyrical and beautiful. It&rsquo\;s such descriptive and expressive music. Each movement has stories that are wrapped up in it. It&rsquo\;s always fun to play\,&rdquo\; Goosby says. &ldquo\;With a buttered cream technique that belies the perfect fingering and light but firm bowing\, Goosby stands out from all of his fellow violinists&rdquo\; (Stage and Cinema). Catch his first performance at the Bowl since 2022!
LOCATION:Hollywood Bowl
UID:e.2281.7625
SEQUENCE:3
DTSTAMP:20260419T145937Z
URL:https://business.hollywoodchamber.net/events/details/the-classical-world-cup-7625
END:VEVENT

END:VCALENDAR
