BEGIN:VCALENDAR
VERSION:2.0
PRODID:-//ChamberMaster//Event Calendar 2.0//EN
METHOD:PUBLISH
X-PUBLISHED-TTL:P3D
REFRESH-INTERVAL:P3D
CALSCALE:GREGORIAN
BEGIN:VEVENT
DTSTART:20260503T230000Z
DTEND:20260504T010000Z
X-MICROSOFT-CDO-ALLDAYEVENT:FALSE
SUMMARY:Westlake Village Symphony Presents 250 Years of America Performance
DESCRIPTION:Westlake Village Symphony Celebrates America's 250th Birthday with an Anniversary Concert Featuring All-American Composers and All-American Songs. Guest Soloist\, Abiodun Koya (Soprano).
X-ALT-DESC;FMTTYPE=text/html:Westlake Village Symphony Celebrates America&rsquo\;s 250th Birthday with an Anniversary Concert Featuring All-American Composers and All-American Songs. Guest Soloist\, Abiodun Koya (Soprano).
LOCATION:1600 E. HILLCREST DR. THOUSAND OAKS
UID:e.2281.9493
SEQUENCE:3
DTSTAMP:20260422T231006Z
URL:https://business.hollywoodchamber.net/events/details/westlake-village-symphony-presents-250-years-of-america-performance-9493
END:VEVENT

END:VCALENDAR
