BEGIN:VCALENDAR
VERSION:2.0
PRODID:-//ChamberMaster//Event Calendar 2.0//EN
METHOD:PUBLISH
X-PUBLISHED-TTL:P3D
REFRESH-INTERVAL:P3D
CALSCALE:GREGORIAN
BEGIN:VEVENT
DTSTART:20260709T030000Z
DTEND:20260709T050000Z
X-MICROSOFT-CDO-ALLDAYEVENT:FALSE
SUMMARY:Wilkins Conducts Bernstein & Ellington
DESCRIPTION:The Los Angeles Philharmonic performs an all-American program depicting scenes from the women's suffrage movement\, gentle lullabies\, and vibrant city streets. New York City comes to life in both the dances from Leonard Bernstein's beloved musical On the Town and Duke Ellington's orchestral suite Harlem. Valerie Coleman's Fanfare for Uncommon Times reflects our unsettled moment\, "at once reflective and restless\, uplifting and ominous" (The New York Times)\, while William Grant Still's Mother and Child was inspired by Harlem Renaissance artist Sargent Johnson's tender painting. At the center of the program is a newly arranged song cycle from Shaina Taub's Broadway hit Suffs\, centered around the movement for women's voting rights.
X-ALT-DESC;FMTTYPE=text/html:The Los Angeles Philharmonic performs an all-American program depicting scenes from the women&rsquo\;s suffrage movement\, gentle lullabies\, and vibrant city streets. New York City comes to life in both the dances from Leonard Bernstein&rsquo\;s beloved musical On the Town and Duke Ellington&rsquo\;s orchestral suite Harlem. Valerie Coleman&rsquo\;s Fanfare for Uncommon Times reflects our unsettled moment\, &ldquo\;at once reflective and restless\, uplifting and ominous&rdquo\; (The New York Times)\, while William Grant Still&rsquo\;s Mother and Child was inspired by Harlem Renaissance artist Sargent Johnson&rsquo\;s tender painting. At the center of the program is a newly arranged song cycle from Shaina Taub&rsquo\;s Broadway hit Suffs\, centered around the movement for women&#39\;s voting rights.
LOCATION:Hollywood Bowl
UID:e.2281.7624
SEQUENCE:3
DTSTAMP:20260419T144136Z
URL:https://business.hollywoodchamber.net/events/details/wilkins-conducts-bernstein-ellington-7624
END:VEVENT

END:VCALENDAR
